Workbook

Sheet Registro Residuos
A1: #VALUE! | C1: CONTROL DE RESIDUOS SÓLIDOS GENERADOS | H1: Código: F-DE-17
H2: Versión: 01
C3: FORMATO | H3: Fecha: 02/02/2026
H4: Página: 1 de 3
A6: MES | B6: DÍA | C6: TIPO DE RESIDUO | D6: CLASIFICACIÓN | E6: CANTIDAD (kg) | F6: MÉTODO DE MEDICIÓN | G6: OBSERVACIONES

Sheet Consolidado Mensual
A1: #VALUE! | B1: CONTROL DE RESIDUOS SÓLIDOS GENERADOS | E1: Código: F-DE-17
E2: Versión: 01
B3: FORMATO | E3: Fecha: 02/02/2026
E4: Página: 2 de 3
A6: MES | B6: TOTAL APROVECHABLES (kg) | C6: TOTAL NO APROVECHABLES (kg) | D6: TOTAL GENERAL (kg) | E6: % APROVECHAMIENTO
A7: ENERO | B7: =SUMIFS('Registro Residuos'!E:E,'Registro Residuos'!C:C,"APROVECHABLE",'Registro Residuos'!A:A,"ENERO") -> 0 | C7: =SUMIFS('Registro Residuos'!E:E,'Registro Residuos'!C:C,"NO APROVECHABLE",'Registro Residuos'!A:A,"ENERO") -> 0 | D7: =B7+C7 -> 0 | E7: =IF(D7>0,B7/D7,0) -> 0
A8: FEBRERO | B8: =SUMIFS('Registro Residuos'!E:E,'Registro Residuos'!C:C,"APROVECHABLE",'Registro Residuos'!A:A,"FEBRERO") -> 0 | C8: =SUMIFS('Registro Residuos'!E:E,'Registro Residuos'!C:C,"NO APROVECHABLE",'Registro Residuos'!A:A,"FEBRERO") -> 0 | D8: =B8+C8 -> 0 | E8: =IF(D8>0,B8/D8,0) -> 0
A9: MARZO | B9: =SUMIFS('Registro Residuos'!E:E,'Registro Residuos'!C:C,"APROVECHABLE",'Registro Residuos'!A:A,"MARZO") -> 0 | C9: =SUMIFS('Registro Residuos'!E:E,'Registro Residuos'!C:C,"NO APROVECHABLE",'Registro Residuos'!A:A,"MARZO") -> 0 | D9: =B9+C9 -> 0 | E9: =IF(D9>0,B9/D9,0) -> 0
A10: ABRIL | B10: =SUMIFS('Registro Residuos'!E:E,'Registro Residuos'!C:C,"APROVECHABLE",'Registro Residuos'!A:A,"ABRIL") -> 0 | C10: =SUMIFS('Registro Residuos'!E:E,'Registro Residuos'!C:C,"NO APROVECHABLE",'Registro Residuos'!A:A,"ABRIL") -> 0 | D10: =B10+C10 -> 0 | E10: =IF(D10>0,B10/D10,0) -> 0
A11: MAYO | B11: =SUMIFS('Registro Residuos'!E:E,'Registro Residuos'!C:C,"APROVECHABLE",'Registro Residuos'!A:A,"MAYO") -> 0 | C11: =SUMIFS('Registro Residuos'!E:E,'Registro Residuos'!C:C,"NO APROVECHABLE",'Registro Residuos'!A:A,"MAYO") -> 0 | D11: =B11+C11 -> 0 | E11: =IF(D11>0,B11/D11,0) -> 0
A12: JUNIO | B12: =SUMIFS('Registro Residuos'!E:E,'Registro Residuos'!C:C,"APROVECHABLE",'Registro Residuos'!A:A,"JUNIO") -> 0 | C12: =SUMIFS('Registro Residuos'!E:E,'Registro Residuos'!C:C,"NO APROVECHABLE",'Registro Residuos'!A:A,"JUNIO") -> 0 | D12: =B12+C12 -> 0 | E12: =IF(D12>0,B12/D12,0) -> 0
A13: JULIO | B13: =SUMIFS('Registro Residuos'!E:E,'Registro Residuos'!C:C,"APROVECHABLE",'Registro Residuos'!A:A,"JULIO") -> 0 | C13: =SUMIFS('Registro Residuos'!E:E,'Registro Residuos'!C:C,"NO APROVECHABLE",'Registro Residuos'!A:A,"JULIO") -> 0 | D13: =B13+C13 -> 0 | E13: =IF(D13>0,B13/D13,0) -> 0
A14: AGOSTO | B14: =SUMIFS('Registro Residuos'!E:E,'Registro Residuos'!C:C,"APROVECHABLE",'Registro Residuos'!A:A,"AGOSTO") -> 0 | C14: =SUMIFS('Registro Residuos'!E:E,'Registro Residuos'!C:C,"NO APROVECHABLE",'Registro Residuos'!A:A,"AGOSTO") -> 0 | D14: =B14+C14 -> 0 | E14: =IF(D14>0,B14/D14,0) -> 0
A15: SEPTIEMBRE | B15: =SUMIFS('Registro Residuos'!E:E,'Registro Residuos'!C:C,"APROVECHABLE",'Registro Residuos'!A:A,"SEPTIEMBRE") -> 0 | C15: =SUMIFS('Registro Residuos'!E:E,'Registro Residuos'!C:C,"NO APROVECHABLE",'Registro Residuos'!A:A,"SEPTIEMBRE") -> 0 | D15: =B15+C15 -> 0 | E15: =IF(D15>0,B15/D15,0) -> 0
A16: OCTUBRE | B16: =SUMIFS('Registro Residuos'!E:E,'Registro Residuos'!C:C,"APROVECHABLE",'Registro Residuos'!A:A,"OCTUBRE") -> 0 | C16: =SUMIFS('Registro Residuos'!E:E,'Registro Residuos'!C:C,"NO APROVECHABLE",'Registro Residuos'!A:A,"OCTUBRE") -> 0 | D16: =B16+C16 -> 0 | E16: =IF(D16>0,B16/D16,0) -> 0
A17: NOVIEMBRE | B17: =SUMIFS('Registro Residuos'!E:E,'Registro Residuos'!C:C,"APROVECHABLE",'Registro Residuos'!A:A,"NOVIEMBRE") -> 0 | C17: =SUMIFS('Registro Residuos'!E:E,'Registro Residuos'!C:C,"NO APROVECHABLE",'Registro Residuos'!A:A,"NOVIEMBRE") -> 0 | D17: =B17+C17 -> 0 | E17: =IF(D17>0,B17/D17,0) -> 0
A18: DICIEMBRE | B18: =SUMIFS('Registro Residuos'!E:E,'Registro Residuos'!C:C,"APROVECHABLE",'Registro Residuos'!A:A,"DICIEMBRE") -> 0 | C18: =SUMIFS('Registro Residuos'!E:E,'Registro Residuos'!C:C,"NO APROVECHABLE",'Registro Residuos'!A:A,"DICIEMBRE") -> 0 | D18: =B18+C18 -> 0 | E18: =IF(D18>0,B18/D18,0) -> 0
A19: TOTAL | B19: =SUM(B7:B18) -> 0 | C19: =SUM(C7:C18) -> 0 | D19: =SUM(D7:D18) -> 0 | E19: =AVERAGE(E7:E18) -> 0

Sheet Ruta Selectiva
A1: #VALUE! | C1: CONTROL DE RESIDUOS SÓLIDOS GENERADOS | R1: Código: F-DE-17
R2: Versión: 01
C3: FORMATO | R3: Fecha: 02/02/2026
R4: Página: 3 de 3
A6: FECHA DE ENTREGA | B6: CARTON (Kg) | C6: METAL (Kg) | D6: PLEGA (Kg) | E6: PLÁSTICO(Kg) | F6: PET(Kg) | G6: PVC(Kg) | H6: PASTA(Kg) | I6: ARCHIVO (Kg) | J6: VIDRIO (Kg) | K6: TETRAPACK (Kg) | L6: ALUMINIO (Kg) / CHATARRA (Kg) | M6: ACEITE (Kg) | N6: OTROS | O6: TOTAL | P6: GESTOR / RECICLADOR | Q6: OBSERVACIONES
O7: =SUM(B7:N7) -> 0
O8: =SUM(B8:N8) -> 0
O9: =SUM(B9:N9) -> 0
O10: =SUM(B10:N10) -> 0
O11: =SUM(B11:N11) -> 0
O12: =SUM(B12:N12) -> 0
O13: =SUM(B13:N13) -> 0
O14: =SUM(B14:N14) -> 0
O15: =SUM(B15:N15) -> 0
O16: =SUM(B16:N16) -> 0
O17: =SUM(B17:N17) -> 0
O18: =SUM(B18:N18) -> 0
... O30: =SUM(B30:N30) -> 0
